Package: demuxSNP Version: 1.4.0 Command: /Library/Frameworks/R.framework/Resources/bin/R CMD build --keep-empty-dirs --no-resave-data demuxSNP StartedAt: 2025-01-30 22:24:57 -0500 (Thu, 30 Jan 2025) EndedAt: 2025-01-30 22:27:23 -0500 (Thu, 30 Jan 2025) EllapsedTime: 145.4 seconds RetCode: 0 Status: OK PackageFile: demuxSNP_1.4.0.tar.gz PackageFileSize: 1.977 MiB