Package: demuxSNP Version: 1.4.0 Command: /Library/Frameworks/R.framework/Resources/bin/R CMD INSTALL demuxSNP StartedAt: 2025-01-30 15:42:33 -0500 (Thu, 30 Jan 2025) EndedAt: 2025-01-30 15:44:08 -0500 (Thu, 30 Jan 2025) EllapsedTime: 94.9 seconds RetCode: 0 Status: OK