Package: demuxSNP Version: 1.4.0 Command: rm -rf demuxSNP.buildbin-libdir && mkdir demuxSNP.buildbin-libdir && F:\biocbuild\bbs-3.20-bioc\R\bin\R.exe CMD INSTALL --build --library=demuxSNP.buildbin-libdir demuxSNP_1.4.0.tar.gz StartedAt: 2025-01-31 08:31:36 -0500 (Fri, 31 Jan 2025) EndedAt: 2025-01-31 08:32:28 -0500 (Fri, 31 Jan 2025) EllapsedTime: 51.2 seconds RetCode: 0 Status: OK PackageFile: demuxSNP_1.4.0.zip PackageFileSize: 1.588 MiB