Package: demuxmix Version: 1.8.0 Command: rm -rf demuxmix.buildbin-libdir && mkdir demuxmix.buildbin-libdir && /Users/biocbuild/BBS/utils/build-universal.sh demuxmix_1.8.0.tar.gz /Library/Frameworks/R.framework/Resources/bin/R demuxmix.buildbin-libdir StartedAt: 2025-02-01 14:38:08 -0500 (Sat, 01 Feb 2025) EndedAt: 2025-02-01 14:38:22 -0500 (Sat, 01 Feb 2025) EllapsedTime: 13.6 seconds RetCode: 0 Status: OK PackageFile: demuxmix_1.8.0.tgz PackageFileSize: 1.737 MiB