Package: demuxmix Version: 1.8.0 Command: /Library/Frameworks/R.framework/Resources/bin/R CMD build --keep-empty-dirs --no-resave-data demuxmix StartedAt: 2025-02-03 18:25:26 -0500 (Mon, 03 Feb 2025) EndedAt: 2025-02-03 18:26:54 -0500 (Mon, 03 Feb 2025) EllapsedTime: 88.0 seconds RetCode: 0 Status: OK PackageFile: demuxmix_1.8.0.tar.gz PackageFileSize: 1.42 MiB