Package: demuxmix Version: 1.8.0 Command: /Library/Frameworks/R.framework/Resources/bin/R CMD check --install=check:demuxmix.install-out.txt --library=/Library/Frameworks/R.framework/Resources/library --no-vignettes --timings demuxmix_1.8.0.tar.gz StartedAt: 2025-02-04 02:35:29 -0500 (Tue, 04 Feb 2025) EndedAt: 2025-02-04 02:38:11 -0500 (Tue, 04 Feb 2025) EllapsedTime: 162.5 seconds RetCode: 0 Status: OK CheckDir: demuxmix.Rcheck Warnings: 0