Package: demuxmix Version: 1.8.0 Command: chmod a+r demuxmix -R && F:\biocbuild\bbs-3.20-bioc\R\bin\R.exe CMD build --keep-empty-dirs --no-resave-data demuxmix StartedAt: 2025-02-10 18:31:03 -0500 (Mon, 10 Feb 2025) EndedAt: 2025-02-10 18:32:04 -0500 (Mon, 10 Feb 2025) EllapsedTime: 60.7 seconds RetCode: 0 Status: OK PackageFile: demuxmix_1.8.0.tar.gz PackageFileSize: 700.8 KiB