Package: demuxmix Version: 1.8.0 Command: /home/biocbuild/R/R/bin/R CMD INSTALL demuxmix StartedAt: 2025-02-03 20:28:46 -0000 (Mon, 03 Feb 2025) EndedAt: 2025-02-03 20:29:04 -0000 (Mon, 03 Feb 2025) EllapsedTime: 17.9 seconds RetCode: 0 Status: OK