Package: destiny Version: 3.20.0 Command: rm -rf destiny.buildbin-libdir && mkdir destiny.buildbin-libdir && /Users/biocbuild/BBS/utils/build-universal.sh destiny_3.20.0.tar.gz /Library/Frameworks/R.framework/Resources/bin/R destiny.buildbin-libdir StartedAt: 2025-02-01 14:39:24 -0500 (Sat, 01 Feb 2025) EndedAt: 2025-02-01 14:40:23 -0500 (Sat, 01 Feb 2025) EllapsedTime: 58.9 seconds RetCode: 0 Status: OK PackageFile: destiny_3.20.0.tgz PackageFileSize: 1.845 MiB