Package: destiny Version: 3.20.0 Command: /Library/Frameworks/R.framework/Resources/bin/R CMD check --install=check:destiny.install-out.txt --library=/Library/Frameworks/R.framework/Resources/library --no-vignettes --timings destiny_3.20.0.tar.gz StartedAt: 2025-02-04 17:59:30 -0500 (Tue, 04 Feb 2025) EndedAt: 2025-02-04 18:04:03 -0500 (Tue, 04 Feb 2025) EllapsedTime: 273.7 seconds RetCode: 0 Status: OK CheckDir: destiny.Rcheck Warnings: 0