Package: destiny Version: 3.20.0 Command: /Library/Frameworks/R.framework/Resources/bin/R CMD INSTALL destiny StartedAt: 2025-01-30 17:33:20 -0500 (Thu, 30 Jan 2025) EndedAt: 2025-01-30 17:34:13 -0500 (Thu, 30 Jan 2025) EllapsedTime: 52.9 seconds RetCode: 0 Status: OK