Package: destiny Version: 3.20.0 Command: /home/biocbuild/R/R/bin/R CMD check --install=check:destiny.install-out.txt --library=/home/biocbuild/R/R/site-library --no-vignettes --timings destiny_3.20.0.tar.gz StartedAt: 2024-11-20 07:09:46 -0000 (Wed, 20 Nov 2024) EndedAt: 2024-11-20 07:15:15 -0000 (Wed, 20 Nov 2024) EllapsedTime: 328.6 seconds RetCode: 0 Status: WARNINGS CheckDir: destiny.Rcheck Warnings: 1