Package: destiny Version: 3.20.0 Command: /Library/Frameworks/R.framework/Resources/bin/R CMD build --keep-empty-dirs --no-resave-data destiny StartedAt: 2025-01-30 18:35:53 -0500 (Thu, 30 Jan 2025) EndedAt: 2025-01-30 18:54:26 -0500 (Thu, 30 Jan 2025) EllapsedTime: 1112.6 seconds RetCode: 0 Status: OK PackageFile: destiny_3.20.0.tar.gz PackageFileSize: 1020 KiB