Package: destiny Version: 3.20.0 Command: /Library/Frameworks/R.framework/Resources/bin/R CMD check --install=check:destiny.install-out.txt --library=/Library/Frameworks/R.framework/Resources/library --no-vignettes --timings destiny_3.20.0.tar.gz StartedAt: 2025-02-04 02:41:23 -0500 (Tue, 04 Feb 2025) EndedAt: 2025-02-04 02:51:45 -0500 (Tue, 04 Feb 2025) EllapsedTime: 622.6 seconds RetCode: 0 Status: OK CheckDir: destiny.Rcheck Warnings: 0