Package: destiny Version: 3.20.0 Command: /Library/Frameworks/R.framework/Resources/bin/R CMD INSTALL destiny StartedAt: 2025-01-30 16:21:55 -0500 (Thu, 30 Jan 2025) EndedAt: 2025-01-30 16:23:43 -0500 (Thu, 30 Jan 2025) EllapsedTime: 107.6 seconds RetCode: 0 Status: OK