Package: diffGeneAnalysis Version: 1.88.0 Command: /Library/Frameworks/R.framework/Resources/bin/R CMD build --keep-empty-dirs --no-resave-data diffGeneAnalysis StartedAt: 2025-02-10 22:47:25 -0500 (Mon, 10 Feb 2025) EndedAt: 2025-02-10 22:47:34 -0500 (Mon, 10 Feb 2025) EllapsedTime: 9.2 seconds RetCode: 0 Status: OK PackageFile: diffGeneAnalysis_1.88.0.tar.gz PackageFileSize: 213.2 KiB