Package: diffGeneAnalysis Version: 1.88.0 Command: /Library/Frameworks/R.framework/Resources/bin/R CMD build --keep-empty-dirs --no-resave-data diffGeneAnalysis StartedAt: 2025-02-03 18:32:06 -0500 (Mon, 03 Feb 2025) EndedAt: 2025-02-03 18:32:22 -0500 (Mon, 03 Feb 2025) EllapsedTime: 15.3 seconds RetCode: 0 Status: OK PackageFile: diffGeneAnalysis_1.88.0.tar.gz PackageFileSize: 213.2 KiB