Package: diffGeneAnalysis Version: 1.88.0 Command: /Library/Frameworks/R.framework/Resources/bin/R CMD check --install=check:diffGeneAnalysis.install-out.txt --library=/Library/Frameworks/R.framework/Resources/library --no-vignettes --timings diffGeneAnalysis_1.88.0.tar.gz StartedAt: 2025-02-04 02:47:11 -0500 (Tue, 04 Feb 2025) EndedAt: 2025-02-04 02:47:52 -0500 (Tue, 04 Feb 2025) EllapsedTime: 41.4 seconds RetCode: 0 Status: OK CheckDir: diffGeneAnalysis.Rcheck Warnings: 0