Package: diffGeneAnalysis Version: 1.88.0 Command: /Library/Frameworks/R.framework/Resources/bin/R CMD INSTALL diffGeneAnalysis StartedAt: 2025-02-03 15:15:22 -0500 (Mon, 03 Feb 2025) EndedAt: 2025-02-03 15:15:35 -0500 (Mon, 03 Feb 2025) EllapsedTime: 13.2 seconds RetCode: 0 Status: OK