Package: diffGeneAnalysis Version: 1.88.0 Command: F:\biocbuild\bbs-3.20-bioc\R\bin\R.exe CMD INSTALL diffGeneAnalysis StartedAt: 2025-02-03 15:34:40 -0500 (Mon, 03 Feb 2025) EndedAt: 2025-02-03 15:35:08 -0500 (Mon, 03 Feb 2025) EllapsedTime: 27.8 seconds RetCode: 0 Status: OK