Package: diffGeneAnalysis Version: 1.88.0 Command: /home/biocbuild/R/R/bin/R CMD build --keep-empty-dirs --no-resave-data diffGeneAnalysis StartedAt: 2025-02-10 23:00:35 -0000 (Mon, 10 Feb 2025) EndedAt: 2025-02-10 23:00:40 -0000 (Mon, 10 Feb 2025) EllapsedTime: 5.0 seconds RetCode: 0 Status: OK PackageFile: diffGeneAnalysis_1.88.0.tar.gz PackageFileSize: 208.9 KiB