Package: diffGeneAnalysis Version: 1.88.0 Command: /home/biocbuild/R/R/bin/R CMD INSTALL diffGeneAnalysis StartedAt: 2025-02-10 20:11:33 -0000 (Mon, 10 Feb 2025) EndedAt: 2025-02-10 20:11:47 -0000 (Mon, 10 Feb 2025) EllapsedTime: 14.2 seconds RetCode: 0 Status: OK