Package: diffHic Version: 1.38.0 Command: /Library/Frameworks/R.framework/Resources/bin/R CMD check --install=check:diffHic.install-out.txt --library=/Library/Frameworks/R.framework/Resources/library --no-vignettes --timings diffHic_1.38.0.tar.gz StartedAt: 2025-02-11 17:47:19 -0500 (Tue, 11 Feb 2025) EndedAt: 2025-02-11 17:53:54 -0500 (Tue, 11 Feb 2025) EllapsedTime: 394.5 seconds RetCode: 0 Status: OK CheckDir: diffHic.Rcheck Warnings: 0