Package: diffHic Version: 1.38.0 Command: /Library/Frameworks/R.framework/Resources/bin/R CMD INSTALL diffHic StartedAt: 2025-02-03 15:59:11 -0500 (Mon, 03 Feb 2025) EndedAt: 2025-02-03 16:00:47 -0500 (Mon, 03 Feb 2025) EllapsedTime: 96.1 seconds RetCode: 0 Status: OK