Package: diffHic Version: 1.38.0 Command: /Library/Frameworks/R.framework/Resources/bin/R CMD check --install=check:diffHic.install-out.txt --library=/Library/Frameworks/R.framework/Resources/library --no-vignettes --timings diffHic_1.38.0.tar.gz StartedAt: 2025-02-04 02:47:52 -0500 (Tue, 04 Feb 2025) EndedAt: 2025-02-04 03:00:57 -0500 (Tue, 04 Feb 2025) EllapsedTime: 785.1 seconds RetCode: 0 Status: OK CheckDir: diffHic.Rcheck Warnings: 0