Package: diffHic Version: 1.38.0 Command: /home/biocbuild/bbs-3.20-bioc/R/bin/R CMD build --keep-empty-dirs --no-resave-data --md5 diffHic StartedAt: 2025-02-10 17:05:08 -0500 (Mon, 10 Feb 2025) EndedAt: 2025-02-10 17:06:44 -0500 (Mon, 10 Feb 2025) EllapsedTime: 96.1 seconds RetCode: 0 Status: OK PackageFile: diffHic_1.38.0.tar.gz PackageFileSize: 1.521 MiB