Package: diffHic Version: 1.38.0 Command: /home/biocbuild/bbs-3.20-bioc/R/bin/R CMD INSTALL diffHic StartedAt: 2025-02-10 15:29:40 -0500 (Mon, 10 Feb 2025) EndedAt: 2025-02-10 15:31:11 -0500 (Mon, 10 Feb 2025) EllapsedTime: 91.0 seconds RetCode: 0 Status: OK