Package: diffHic Version: 1.38.0 Command: rm -rf diffHic.buildbin-libdir && mkdir diffHic.buildbin-libdir && F:\biocbuild\bbs-3.20-bioc\R\bin\R.exe CMD INSTALL --build --library=diffHic.buildbin-libdir diffHic_1.38.0.tar.gz StartedAt: 2025-02-04 08:22:53 -0500 (Tue, 04 Feb 2025) EndedAt: 2025-02-04 08:25:23 -0500 (Tue, 04 Feb 2025) EllapsedTime: 150.3 seconds RetCode: 0 Status: OK PackageFile: diffHic_1.38.0.zip PackageFileSize: 6.911 MiB