Package: diffHic Version: 1.38.0 Command: chmod a+r diffHic -R && F:\biocbuild\bbs-3.20-bioc\R\bin\R.exe CMD build --keep-empty-dirs --no-resave-data diffHic StartedAt: 2025-02-03 18:41:45 -0500 (Mon, 03 Feb 2025) EndedAt: 2025-02-03 18:44:19 -0500 (Mon, 03 Feb 2025) EllapsedTime: 153.9 seconds RetCode: 0 Status: OK PackageFile: diffHic_1.38.0.tar.gz PackageFileSize: 1.44 MiB