Package: diffHic Version: 1.38.0 Command: F:\biocbuild\bbs-3.20-bioc\R\bin\R.exe CMD INSTALL diffHic StartedAt: 2025-02-10 16:12:01 -0500 (Mon, 10 Feb 2025) EndedAt: 2025-02-10 16:14:36 -0500 (Mon, 10 Feb 2025) EllapsedTime: 154.4 seconds RetCode: 0 Status: OK