Package: diffHic Version: 1.38.0 Command: /home/biocbuild/R/R/bin/R CMD build --keep-empty-dirs --no-resave-data diffHic StartedAt: 2025-02-03 23:12:27 -0000 (Mon, 03 Feb 2025) EndedAt: 2025-02-03 23:14:39 -0000 (Mon, 03 Feb 2025) EllapsedTime: 131.0 seconds RetCode: 0 Status: OK PackageFile: diffHic_1.38.0.tar.gz PackageFileSize: 1.512 MiB