Package: diffHic Version: 1.38.0 Command: /home/biocbuild/R/R/bin/R CMD INSTALL diffHic StartedAt: 2025-02-03 20:41:46 -0000 (Mon, 03 Feb 2025) EndedAt: 2025-02-03 20:43:53 -0000 (Mon, 03 Feb 2025) EllapsedTime: 126.7 seconds RetCode: 0 Status: OK