Package: diffUTR Version: 1.14.0 Command: /home/biocbuild/bbs-3.20-bioc/R/bin/R CMD build --keep-empty-dirs --no-resave-data --md5 diffUTR StartedAt: 2025-02-03 17:12:27 -0500 (Mon, 03 Feb 2025) EndedAt: 2025-02-03 17:13:38 -0500 (Mon, 03 Feb 2025) EllapsedTime: 71.1 seconds RetCode: 0 Status: OK PackageFile: diffUTR_1.14.0.tar.gz PackageFileSize: 1.368 MiB