Package: diffUTR Version: 1.14.0 Command: /home/biocbuild/bbs-3.20-bioc/R/bin/R CMD INSTALL diffUTR StartedAt: 2025-02-03 15:57:34 -0500 (Mon, 03 Feb 2025) EndedAt: 2025-02-03 15:58:27 -0500 (Mon, 03 Feb 2025) EllapsedTime: 52.8 seconds RetCode: 0 Status: OK