Package: diffUTR Version: 1.14.0 Command: chmod a+r diffUTR -R && F:\biocbuild\bbs-3.20-bioc\R\bin\R.exe CMD build --keep-empty-dirs --no-resave-data diffUTR StartedAt: 2025-02-10 18:36:28 -0500 (Mon, 10 Feb 2025) EndedAt: 2025-02-10 18:38:04 -0500 (Mon, 10 Feb 2025) EllapsedTime: 96.3 seconds RetCode: 0 Status: OK PackageFile: diffUTR_1.14.0.tar.gz PackageFileSize: 1.103 MiB