Package: diffUTR Version: 1.14.0 Command: F:\biocbuild\bbs-3.20-bioc\R\bin\R.exe CMD check --no-multiarch --install=check:diffUTR.install-out.txt --library=F:\biocbuild\bbs-3.20-bioc\R\library --no-vignettes --timings diffUTR_1.14.0.tar.gz StartedAt: 2025-02-04 01:16:11 -0500 (Tue, 04 Feb 2025) EndedAt: 2025-02-04 01:22:07 -0500 (Tue, 04 Feb 2025) EllapsedTime: 356.4 seconds RetCode: 0 Status: OK CheckDir: diffUTR.Rcheck Warnings: 0