Package: diffUTR Version: 1.14.0 Command: /home/biocbuild/R/R/bin/R CMD INSTALL diffUTR StartedAt: 2025-02-10 20:57:58 -0000 (Mon, 10 Feb 2025) EndedAt: 2025-02-10 20:58:54 -0000 (Mon, 10 Feb 2025) EllapsedTime: 56.4 seconds RetCode: 0 Status: OK