Package: diffcoexp Version: 1.26.0 Command: rm -rf diffcoexp.buildbin-libdir && mkdir diffcoexp.buildbin-libdir && /Users/biocbuild/BBS/utils/build-universal.sh diffcoexp_1.26.0.tar.gz /Library/Frameworks/R.framework/Resources/bin/R diffcoexp.buildbin-libdir StartedAt: 2025-02-05 15:35:57 -0500 (Wed, 05 Feb 2025) EndedAt: 2025-02-05 15:36:35 -0500 (Wed, 05 Feb 2025) EllapsedTime: 37.1 seconds RetCode: 0 Status: OK PackageFile: diffcoexp_1.26.0.tgz PackageFileSize: 318.6 KiB