Package: diffcoexp Version: 1.26.0 Command: /Library/Frameworks/R.framework/Resources/bin/R CMD build --keep-empty-dirs --no-resave-data diffcoexp StartedAt: 2025-02-03 22:33:22 -0500 (Mon, 03 Feb 2025) EndedAt: 2025-02-03 22:34:17 -0500 (Mon, 03 Feb 2025) EllapsedTime: 55.0 seconds RetCode: 0 Status: OK PackageFile: diffcoexp_1.26.0.tar.gz PackageFileSize: 294.1 KiB