Package: diffcoexp Version: 1.26.0 Command: /Library/Frameworks/R.framework/Resources/bin/R CMD INSTALL diffcoexp StartedAt: 2025-02-03 17:23:50 -0500 (Mon, 03 Feb 2025) EndedAt: 2025-02-03 17:24:24 -0500 (Mon, 03 Feb 2025) EllapsedTime: 33.9 seconds RetCode: 0 Status: OK