Package: diffcoexp Version: 1.26.0 Command: rm -rf diffcoexp.buildbin-libdir && mkdir diffcoexp.buildbin-libdir && /Users/biocbuild/BBS/utils/build-universal.sh diffcoexp_1.26.0.tar.gz /Library/Frameworks/R.framework/Resources/bin/R diffcoexp.buildbin-libdir StartedAt: 2025-02-04 12:49:42 -0500 (Tue, 04 Feb 2025) EndedAt: 2025-02-04 12:50:45 -0500 (Tue, 04 Feb 2025) EllapsedTime: 63.7 seconds RetCode: 0 Status: OK PackageFile: diffcoexp_1.26.0.tgz PackageFileSize: 318.4 KiB