Package: diffcoexp Version: 1.26.0 Command: /Library/Frameworks/R.framework/Resources/bin/R CMD INSTALL diffcoexp StartedAt: 2025-02-10 16:17:50 -0500 (Mon, 10 Feb 2025) EndedAt: 2025-02-10 16:18:50 -0500 (Mon, 10 Feb 2025) EllapsedTime: 59.7 seconds RetCode: 0 Status: OK