Package: diffcoexp Version: 1.26.0 Command: rm -rf diffcoexp.buildbin-libdir && mkdir diffcoexp.buildbin-libdir && F:\biocbuild\bbs-3.20-bioc\R\bin\R.exe CMD INSTALL --build --library=diffcoexp.buildbin-libdir diffcoexp_1.26.0.tar.gz StartedAt: 2025-02-04 08:22:45 -0500 (Tue, 04 Feb 2025) EndedAt: 2025-02-04 08:23:20 -0500 (Tue, 04 Feb 2025) EllapsedTime: 34.9 seconds RetCode: 0 Status: OK PackageFile: diffcoexp_1.26.0.zip PackageFileSize: 158.4 KiB