Package: diffcyt Version: 1.26.0 Command: /Library/Frameworks/R.framework/Resources/bin/R CMD build --keep-empty-dirs --no-resave-data diffcyt StartedAt: 2025-01-30 22:40:03 -0500 (Thu, 30 Jan 2025) EndedAt: 2025-01-30 22:42:09 -0500 (Thu, 30 Jan 2025) EllapsedTime: 126.1 seconds RetCode: 0 Status: OK PackageFile: diffcyt_1.26.0.tar.gz PackageFileSize: 855.7 KiB