Package: diffcyt Version: 1.26.0 Command: /Library/Frameworks/R.framework/Resources/bin/R CMD check --install=check:diffcyt.install-out.txt --library=/Library/Frameworks/R.framework/Resources/library --no-vignettes --timings diffcyt_1.26.0.tar.gz StartedAt: 2025-01-31 17:35:49 -0500 (Fri, 31 Jan 2025) EndedAt: 2025-01-31 17:40:30 -0500 (Fri, 31 Jan 2025) EllapsedTime: 280.5 seconds RetCode: 0 Status: OK CheckDir: diffcyt.Rcheck Warnings: 0