Package: diffcyt Version: 1.26.0 Command: /Library/Frameworks/R.framework/Resources/bin/R CMD INSTALL diffcyt StartedAt: 2025-01-30 16:43:03 -0500 (Thu, 30 Jan 2025) EndedAt: 2025-01-30 16:44:07 -0500 (Thu, 30 Jan 2025) EllapsedTime: 64.8 seconds RetCode: 0 Status: OK