Package: diffcyt Version: 1.26.0 Command: /home/biocbuild/bbs-3.20-bioc/R/bin/R CMD check --install=check:diffcyt.install-out.txt --library=/home/biocbuild/bbs-3.20-bioc/R/site-library --timings diffcyt_1.26.0.tar.gz StartedAt: 2025-01-30 21:39:52 -0500 (Thu, 30 Jan 2025) EndedAt: 2025-01-30 21:44:55 -0500 (Thu, 30 Jan 2025) EllapsedTime: 302.3 seconds RetCode: 0 Status: OK CheckDir: diffcyt.Rcheck Warnings: 0