Package: diffcyt Version: 1.26.0 Command: /home/biocbuild/bbs-3.20-bioc/R/bin/R CMD INSTALL diffcyt StartedAt: 2025-01-30 15:59:53 -0500 (Thu, 30 Jan 2025) EndedAt: 2025-01-30 16:00:21 -0500 (Thu, 30 Jan 2025) EllapsedTime: 28.6 seconds RetCode: 0 Status: OK