Package: diggit Version: 1.38.0 Command: /Library/Frameworks/R.framework/Resources/bin/R CMD build --keep-empty-dirs --no-resave-data diggit StartedAt: 2025-02-10 22:50:00 -0500 (Mon, 10 Feb 2025) EndedAt: 2025-02-10 22:52:50 -0500 (Mon, 10 Feb 2025) EllapsedTime: 169.4 seconds RetCode: 0 Status: OK PackageFile: diggit_1.38.0.tar.gz PackageFileSize: 348.5 KiB