Package: diggit Version: 1.38.0 Command: rm -rf diggit.buildbin-libdir && mkdir diggit.buildbin-libdir && /Users/biocbuild/BBS/utils/build-universal.sh diggit_1.38.0.tar.gz /Library/Frameworks/R.framework/Resources/bin/R diggit.buildbin-libdir StartedAt: 2025-02-04 12:50:26 -0500 (Tue, 04 Feb 2025) EndedAt: 2025-02-04 12:50:56 -0500 (Tue, 04 Feb 2025) EllapsedTime: 30.6 seconds RetCode: 0 Status: OK PackageFile: diggit_1.38.0.tgz PackageFileSize: 601.9 KiB